BEGIN:VCALENDAR
VERSION:2.0
PRODID:-//Freiwillige Feuerwehr Altenmarkt im Yspertal - ECPv6.15.20//NONSGML v1.0//EN
CALSCALE:GREGORIAN
METHOD:PUBLISH
X-WR-CALNAME:Freiwillige Feuerwehr Altenmarkt im Yspertal
X-ORIGINAL-URL:https://www.feuerwehraltenmarkt.at
X-WR-CALDESC:Veranstaltungen für Freiwillige Feuerwehr Altenmarkt im Yspertal
REFRESH-INTERVAL;VALUE=DURATION:PT1H
X-Robots-Tag:noindex
X-PUBLISHED-TTL:PT1H
BEGIN:VTIMEZONE
TZID:Europe/Vienna
BEGIN:DAYLIGHT
TZOFFSETFROM:+0100
TZOFFSETTO:+0200
TZNAME:CEST
DTSTART:20220327T010000
END:DAYLIGHT
BEGIN:STANDARD
TZOFFSETFROM:+0200
TZOFFSETTO:+0100
TZNAME:CET
DTSTART:20221030T010000
END:STANDARD
BEGIN:DAYLIGHT
TZOFFSETFROM:+0100
TZOFFSETTO:+0200
TZNAME:CEST
DTSTART:20230326T010000
END:DAYLIGHT
BEGIN:STANDARD
TZOFFSETFROM:+0200
TZOFFSETTO:+0100
TZNAME:CET
DTSTART:20231029T010000
END:STANDARD
BEGIN:DAYLIGHT
TZOFFSETFROM:+0100
TZOFFSETTO:+0200
TZNAME:CEST
DTSTART:20240331T010000
END:DAYLIGHT
BEGIN:STANDARD
TZOFFSETFROM:+0200
TZOFFSETTO:+0100
TZNAME:CET
DTSTART:20241027T010000
END:STANDARD
END:VTIMEZONE
BEGIN:VEVENT
DTSTART;TZID=Europe/Vienna:20230902T160000
DTEND;TZID=Europe/Vienna:20230902T233000
DTSTAMP:20260421T141440
CREATED:20230104T184235Z
LAST-MODIFIED:20230514T095746Z
UID:2227-1693670400-1693697400@www.feuerwehraltenmarkt.at
SUMMARY:Feuerwehrheuriger
DESCRIPTION:Regionale Schmankerl und gemütliche Stimmung\nDie Freiwillige Feuerwehr Altenmarkt lädt herzlich zum Feuerwehrheurigen ein! Genießt bei gemütlichem Ambiente regionale Schmankerl und erfrischende Getränke. Es erwartet euch ein Heurigenbetrieb mit regionalen Köstlichkeiten sowie eine Weinbar\, Schnapsbar\, Seidlbar und für die Kleinsten eine Kinder-Hüpfburg. \n 
URL:https://www.feuerwehraltenmarkt.at/kalender/heuriger/
LOCATION:Feuerwehrhaus Altenmarkt\, Hauptstraße 25\, Yspertal\, 3683\, Österreich
ATTACH;FMTTYPE=image/jpeg:https://www.feuerwehraltenmarkt.at/wp-content/uploads/2023/01/Heuriger2023-Einladung-scaled.jpg
ORGANIZER;CN="Freiwillige Feuerwehr Altenmarkt":MAILTO:altenmarkt.3683@feuerwehr.gv.at
END:VEVENT
END:VCALENDAR